BEGIN:VCALENDAR
VERSION:2.0
PRODID:-//Golf-Resort Bitburger Land - ECPv6.15.13.1//NONSGML v1.0//EN
CALSCALE:GREGORIAN
METHOD:PUBLISH
X-ORIGINAL-URL:https://bitgolf.de
X-WR-CALDESC:Veranstaltungen für Golf-Resort Bitburger Land
REFRESH-INTERVAL;VALUE=DURATION:PT1H
X-Robots-Tag:noindex
X-PUBLISHED-TTL:PT1H
BEGIN:VTIMEZONE
TZID:UTC
BEGIN:STANDARD
TZOFFSETFROM:+0000
TZOFFSETTO:+0000
TZNAME:UTC
DTSTART:20190101T000000
END:STANDARD
END:VTIMEZONE
BEGIN:VEVENT
DTSTART;VALUE=DATE:20200715
DTEND;VALUE=DATE:20200716
DTSTAMP:20260420T172629
CREATED:20170205T201632Z
LAST-MODIFIED:20191213T174343Z
UID:3973-1594771200-1594857599@bitgolf.de
SUMMARY:Gemeinsames Herrengolf in Trier
DESCRIPTION:Teamwertung mit GC Trier\, GC Kyllburger Waldeifel & Golf-Resort Bitburger Land \nDetails folgen
URL:https://bitgolf.de/event/gemeinsames-herrengolf-in-trier/
LOCATION:Golf Club Trier\, Am Golfplatz 1\, Ensch\, 54340\, Deutschland
CATEGORIES:Herrengolf
ATTACH;FMTTYPE=image/png:https://bitgolf.de/wp-content/uploads/2017/02/Trier.png
ORGANIZER;CN="Golf Club Trier":MAILTO:info@golf-club-trier.de
GEO:49.842715;6.82281
X-APPLE-STRUCTURED-LOCATION;VALUE=URI;X-ADDRESS=Golf Club Trier Am Golfplatz 1 Ensch 54340 Deutschland;X-APPLE-RADIUS=500;X-TITLE=Am Golfplatz 1:geo:6.82281,49.842715
END:VEVENT
END:VCALENDAR