BEGIN:VCALENDAR
VERSION:2.0
PRODID:-//Golf-Resort Bitburger Land - ECPv6.15.13.1//NONSGML v1.0//EN
CALSCALE:GREGORIAN
METHOD:PUBLISH
X-ORIGINAL-URL:https://bitgolf.de
X-WR-CALDESC:Veranstaltungen für Golf-Resort Bitburger Land
REFRESH-INTERVAL;VALUE=DURATION:PT1H
X-Robots-Tag:noindex
X-PUBLISHED-TTL:PT1H
BEGIN:VTIMEZONE
TZID:UTC
BEGIN:STANDARD
TZOFFSETFROM:+0000
TZOFFSETTO:+0000
TZNAME:UTC
DTSTART:20230101T000000
END:STANDARD
END:VTIMEZONE
BEGIN:VEVENT
DTSTART;TZID=UTC:20240922T100000
DTEND;TZID=UTC:20240922T170000
DTSTAMP:20260419T172051
CREATED:20240828T093032Z
LAST-MODIFIED:20240911T061601Z
UID:12559-1726999200-1727024400@bitgolf.de
SUMMARY:Monatsbecher
DESCRIPTION:Die neue Turnierserie: \n18 Loch Stablefort\, vorgabewirksam \nZeitstart ab 10 Uhr\, Tee 1\, \nHCP aufwärts \nPreise: 1. Brutto; 3 Netto Preise; Birdie Gewinnchance \nJahrespreis: Wanderpokal für den Jahres-Brutto-Sieger \nMeldeschluss: 21.09.24\, 12 Uhr
URL:https://bitgolf.de/event/monatsbecher/
LOCATION:Golf-Resort Bitburger Land\, Zur Weilersheck 1\, Wißmannsdorf\, 54636
CATEGORIES:18-Loch Turnier
ATTACH;FMTTYPE=image/jpeg:https://bitgolf.de/wp-content/uploads/2022/09/Golf.jpg
ORGANIZER;CN="Golf-Resort Bitburger Land":MAILTO:info@bitgolf.de
END:VEVENT
END:VCALENDAR