BEGIN:VCALENDAR
VERSION:2.0
PRODID:-//Golf-Resort Bitburger Land - ECPv6.15.13.1//NONSGML v1.0//EN
CALSCALE:GREGORIAN
METHOD:PUBLISH
X-ORIGINAL-URL:https://bitgolf.de
X-WR-CALDESC:Veranstaltungen für Golf-Resort Bitburger Land
REFRESH-INTERVAL;VALUE=DURATION:PT1H
X-Robots-Tag:noindex
X-PUBLISHED-TTL:PT1H
BEGIN:VTIMEZONE
TZID:UTC
BEGIN:STANDARD
TZOFFSETFROM:+0000
TZOFFSETTO:+0000
TZNAME:UTC
DTSTART:20160101T000000
END:STANDARD
END:VTIMEZONE
BEGIN:VEVENT
DTSTART;TZID=UTC:20170716T090000
DTEND;TZID=UTC:20170716T100000
DTSTAMP:20260421T132409
CREATED:20170214T121441Z
LAST-MODIFIED:20170416T075759Z
UID:4076-1500195600-1500199200@bitgolf.de
SUMMARY:Jeep-Challenge 2017
DESCRIPTION:Die Jeep Challenge ist umgezogen! \n  \nWir haben der klassischen After-Work-Serie ein Neues Gesicht verpasst und spielen nun eine 9-Loch Eary Bird Serie am Wochenende. \nFür alle  Golfer\, die den Rest des Tages mit der Familie verbringen möchten.
URL:https://bitgolf.de/event/jeep-challenge-2017-2017-07-16/2017-07-16/
LOCATION:Golfresort Bitburger Land
CATEGORIES:9-Loch Turnier
ORGANIZER;CN="Golf-Resort Bitburger Land":MAILTO:info@bitgolf.de
END:VEVENT
END:VCALENDAR