BEGIN:VCALENDAR
VERSION:2.0
PRODID:-//Golf-Resort Bitburger Land - ECPv6.15.13.1//NONSGML v1.0//EN
CALSCALE:GREGORIAN
METHOD:PUBLISH
X-ORIGINAL-URL:https://bitgolf.de
X-WR-CALDESC:Veranstaltungen für Golf-Resort Bitburger Land
REFRESH-INTERVAL;VALUE=DURATION:PT1H
X-Robots-Tag:noindex
X-PUBLISHED-TTL:PT1H
BEGIN:VTIMEZONE
TZID:UTC
BEGIN:STANDARD
TZOFFSETFROM:+0000
TZOFFSETTO:+0000
TZNAME:UTC
DTSTART:20210101T000000
END:STANDARD
END:VTIMEZONE
BEGIN:VEVENT
DTSTART;TZID=UTC:20220513T130000
DTEND;TZID=UTC:20220513T150000
DTSTAMP:20260421T132451
CREATED:20220117T131603Z
LAST-MODIFIED:20220426T070824Z
UID:9563-1652446800-1652454000@bitgolf.de
SUMMARY:Herrengolf - Race To Macan
DESCRIPTION:Herrengolf -Race to Macan- by Porsche Zentrum Trier\nDas „Race to Macan – by PZ Trier“ ist die neue Serie über 5 Turniere in der Herrengolfsaison 2022.\nJeder Teilnehmer hat zusätzlich die Chance einen Porsche Macan für einen ganzen Monat zu gewinnen!\nNach jedem Race To Macan – Turnier werft Ihr einfach eure Scorekarte in die Lostrommel und schon seid Ihr dabei… Der Gewinner wird beim Finale am 07. Oktober gezogen!\nPS.: je häufiger ihr an den Turnieren teilnehmt\, desto größer ist eure Chance auf den Porsche… \nZeitstart ab 13 Uhr bzw. 14 Uhr je nach Saison und Witterung.\nWertungen: Bruttosieger\, Netto 1.-3.\, Longest Drive & Nearest to the Pin \nStartgeld: 17 € inkl. Half-Way Verpflegung\, Abendessen \nGäste Willkommen: 70\,-€ inkl. Greenfee \nAnmeldung per mail an info@bitgolf.de oder 06527-92720 \n \nVerbrauchswerte: Macan S\nKraftstoffverbrauch (in l/100 km): innerorts 12\,3 · außerorts 8\,4 · kombiniert 9\,9-9\,8; CO₂-Emissionen kombiniert 225-224 g/km
URL:https://bitgolf.de/event/herrengolf-3-2022-05-13/2022-05-13/
LOCATION:Golf-Resort Bitburger Land\, Zur Weilersheck 1\, Wißmannsdorf\, 54636
CATEGORIES:18-Loch Turnier,Herrengolf
ATTACH;FMTTYPE=image/jpeg:https://bitgolf.de/wp-content/uploads/2019/04/Porsche_MZ_4C_S_30mm.jpg
END:VEVENT
END:VCALENDAR