BEGIN:VCALENDAR
VERSION:2.0
PRODID:-//Golf-Resort Bitburger Land - ECPv6.15.13.1//NONSGML v1.0//EN
CALSCALE:GREGORIAN
METHOD:PUBLISH
X-ORIGINAL-URL:https://bitgolf.de
X-WR-CALDESC:Veranstaltungen für Golf-Resort Bitburger Land
REFRESH-INTERVAL;VALUE=DURATION:PT1H
X-Robots-Tag:noindex
X-PUBLISHED-TTL:PT1H
BEGIN:VTIMEZONE
TZID:UTC
BEGIN:STANDARD
TZOFFSETFROM:+0000
TZOFFSETTO:+0000
TZNAME:UTC
DTSTART:20210101T000000
END:STANDARD
END:VTIMEZONE
BEGIN:VEVENT
DTSTART;TZID=UTC:20220423T130000
DTEND;TZID=UTC:20220423T150000
DTSTAMP:20260423T124629
CREATED:20220412T174517Z
LAST-MODIFIED:20220412T174517Z
UID:9952-1650718800-1650726000@bitgolf.de
SUMMARY:"Fit in den Sommer" Golfer Special
DESCRIPTION:Fit in den Sommer! \nExklusive Golfer Special!\n\nDu willst…\n\n… überschüssige Kilos loswerden?\n… eine definierte Muskulatur?\n… dich in deinen Sommerklamotten wieder wohl fühlen?\n… ein selbstbewussteres Auftreten?\n… mehr Energie im Alltag?\n… Spaß und Erfolg beim Sport?\n… weniger körperliche Beschwerden?\n… dich in deiner Trainingsumgebung wohlfühlen?\n… in allen Bereichen leistungsfähiger sein?\n\nDann bist du bei uns genau richtig! 💯\n\nStarte jetzt kostenlos mit unserer 21 Tage Challenge und hol das Beste aus dir heraus 💪🏼\n\nDas erwartet dich:\n▪︎ Kleingruppen Personal Training\n▪︎ patentiertes Trainingssystem\n▪︎ Ernährungscoaching inkl. App\n▪︎ InBody Analysen\n▪︎ motivierende Trainer\n▪︎ unterstützende Community\n\n‼Und das alles KOSTENLOS und UNVERBINDLICH ‼\n\nUm den Startschuss für eure 21Tages Challenge einzuleiten\, möchten wir euch herzlich zu einem gemeinsamen Training einladen\,\nexklusiv nur für Mitglieder des Golf Resort Bitburg.\nDie Anzahl ist jeweils auf 14 Teilnehmer begrenzt.\nDazu stehen folgende Termine bereit\, Samstag der 23.04.22\, 13Uhr sowie Sonntag der 30.04.22\, 13Uhr\nClaude-Dornier-Straße 5\, 54634 Bitburg
URL:https://bitgolf.de/event/fit-in-den-sommer-golfer-special/2022-04-23/
LOCATION:Hardcore Fitness Bitburg\, Claude-Dornier-Straße 5\, Bitburg\, 54634
CATEGORIES:Event
ATTACH;FMTTYPE=image/png:https://bitgolf.de/wp-content/uploads/2022/04/4.png
END:VEVENT
END:VCALENDAR